BEGIN:VCALENDAR
VERSION:2.0
PRODID:-//York Bassmasters - ECPv6.15.14//NONSGML v1.0//EN
CALSCALE:GREGORIAN
METHOD:PUBLISH
X-WR-CALNAME:York Bassmasters
X-ORIGINAL-URL:https://yorkbassmasters.com
X-WR-CALDESC:Events for York Bassmasters
REFRESH-INTERVAL;VALUE=DURATION:PT1H
X-Robots-Tag:noindex
X-PUBLISHED-TTL:PT1H
BEGIN:VTIMEZONE
TZID:America/Toronto
BEGIN:DAYLIGHT
TZOFFSETFROM:-0500
TZOFFSETTO:-0400
TZNAME:EDT
DTSTART:20210314T070000
END:DAYLIGHT
BEGIN:STANDARD
TZOFFSETFROM:-0400
TZOFFSETTO:-0500
TZNAME:EST
DTSTART:20211107T060000
END:STANDARD
BEGIN:DAYLIGHT
TZOFFSETFROM:-0500
TZOFFSETTO:-0400
TZNAME:EDT
DTSTART:20220313T070000
END:DAYLIGHT
BEGIN:STANDARD
TZOFFSETFROM:-0400
TZOFFSETTO:-0500
TZNAME:EST
DTSTART:20221106T060000
END:STANDARD
BEGIN:DAYLIGHT
TZOFFSETFROM:-0500
TZOFFSETTO:-0400
TZNAME:EDT
DTSTART:20230312T070000
END:DAYLIGHT
BEGIN:STANDARD
TZOFFSETFROM:-0400
TZOFFSETTO:-0500
TZNAME:EST
DTSTART:20231105T060000
END:STANDARD
END:VTIMEZONE
BEGIN:VEVENT
DTSTART;VALUE=DATE:20220510
DTEND;VALUE=DATE:20220511
DTSTAMP:20260420T120341
CREATED:20220505T131342Z
LAST-MODIFIED:20220505T131533Z
UID:3958-1652140800-1652227199@yorkbassmasters.com
SUMMARY:York Bassmasters - Conservation Event (MTM Conservation Association Matchedash Bay Ramp and Parking Area Restoration)
DESCRIPTION:
URL:https://yorkbassmasters.com/event/york-bassmasters-conservation-event-mtm-conservation-association-matchedash-bay-ramp-and-parking-area-restoration/
CATEGORIES:Club Event
END:VEVENT
BEGIN:VEVENT
DTSTART;TZID=America/Toronto:20220425T190000
DTEND;TZID=America/Toronto:20220425T220000
DTSTAMP:20260420T120341
CREATED:20220202T030526Z
LAST-MODIFIED:20220202T032923Z
UID:3639-1650913200-1650924000@yorkbassmasters.com
SUMMARY:York Bassmasters - Monthly Club Meeting
DESCRIPTION:
URL:https://yorkbassmasters.com/event/york-bassmasters-monthly-club-meeting-4/
CATEGORIES:Monthly Club Meeting
END:VEVENT
BEGIN:VEVENT
DTSTART;VALUE=DATE:20220418
DTEND;VALUE=DATE:20220419
DTSTAMP:20260420T120341
CREATED:20220202T030356Z
LAST-MODIFIED:20220202T030356Z
UID:3637-1650240000-1650326399@yorkbassmasters.com
SUMMARY:Easter Monday
DESCRIPTION:
URL:https://yorkbassmasters.com/event/easter-monday/
CATEGORIES:Statutory Holiday
END:VEVENT
BEGIN:VEVENT
DTSTART;VALUE=DATE:20220417
DTEND;VALUE=DATE:20220418
DTSTAMP:20260420T120341
CREATED:20220202T030256Z
LAST-MODIFIED:20220202T030256Z
UID:3635-1650153600-1650239999@yorkbassmasters.com
SUMMARY:Easter Sunday
DESCRIPTION:
URL:https://yorkbassmasters.com/event/easter-sunday/
CATEGORIES:Statutory Holiday
END:VEVENT
BEGIN:VEVENT
DTSTART;VALUE=DATE:20220415
DTEND;VALUE=DATE:20220416
DTSTAMP:20260420T120341
CREATED:20220202T030142Z
LAST-MODIFIED:20220202T030142Z
UID:3633-1649980800-1650067199@yorkbassmasters.com
SUMMARY:Good Friday
DESCRIPTION:
URL:https://yorkbassmasters.com/event/good-friday/
CATEGORIES:Statutory Holiday
END:VEVENT
BEGIN:VEVENT
DTSTART;TZID=America/Toronto:20220328T190000
DTEND;TZID=America/Toronto:20220328T220000
DTSTAMP:20260420T120341
CREATED:20220202T030002Z
LAST-MODIFIED:20220202T033002Z
UID:3631-1648494000-1648504800@yorkbassmasters.com
SUMMARY:York Bassmasters - Monthly Club Meeting
DESCRIPTION:
URL:https://yorkbassmasters.com/event/york-bassmasters-monthly-club-meeting-3/
CATEGORIES:Monthly Club Meeting
END:VEVENT
BEGIN:VEVENT
DTSTART;VALUE=DATE:20220326
DTEND;VALUE=DATE:20220327
DTSTAMP:20260420T120341
CREATED:20220202T153726Z
LAST-MODIFIED:20220213T123326Z
UID:3703-1648252800-1648339199@yorkbassmasters.com
SUMMARY:Hamilton Bassmasters - Spring Fishing Swap Meet
DESCRIPTION:Ancaster Fairgrounds\, 630 Trinity Road\, RR#1\, Jerseyville\, Ontario
URL:https://yorkbassmasters.com/event/hamilton-bassmasters-spring-fishing-swap-meet/
CATEGORIES:Trade Show
END:VEVENT
BEGIN:VEVENT
DTSTART;VALUE=DATE:20220320
DTEND;VALUE=DATE:20220321
DTSTAMP:20260420T120341
CREATED:20220202T234302Z
LAST-MODIFIED:20220205T155002Z
UID:3706-1647734400-1647820799@yorkbassmasters.com
SUMMARY:Peterborough Tackle Swap and Fishing Show
DESCRIPTION:Peterborough Memorial Centre\n151 Lansdowne Street\, Peterborough\, Ontario
URL:https://yorkbassmasters.com/event/peterborough-tackle-swap-and-fishing-show/
CATEGORIES:Trade Show
END:VEVENT
BEGIN:VEVENT
DTSTART;VALUE=DATE:20220317
DTEND;VALUE=DATE:20220321
DTSTAMP:20260420T120341
CREATED:20220202T035313Z
LAST-MODIFIED:20220202T234807Z
UID:3677-1647475200-1647820799@yorkbassmasters.com
SUMMARY:Toronto Sportsman Show
DESCRIPTION:International Centre\n6900 Airport Road\, Mississauga\, Ontario
URL:https://yorkbassmasters.com/event/toronto-sportsman-show/
CATEGORIES:Trade Show
END:VEVENT
BEGIN:VEVENT
DTSTART;VALUE=DATE:20220313
DTEND;VALUE=DATE:20220314
DTSTAMP:20260420T120341
CREATED:20220202T025821Z
LAST-MODIFIED:20220202T025821Z
UID:3629-1647129600-1647215999@yorkbassmasters.com
SUMMARY:Daylight Savings Time Begins
DESCRIPTION:
URL:https://yorkbassmasters.com/event/daylight-savings-time-begins/
CATEGORIES:Statutory Holiday
END:VEVENT
BEGIN:VEVENT
DTSTART;TZID=America/Toronto:20220228T190000
DTEND;TZID=America/Toronto:20220228T220000
DTSTAMP:20260420T120341
CREATED:20220202T025632Z
LAST-MODIFIED:20220202T033059Z
UID:3627-1646074800-1646085600@yorkbassmasters.com
SUMMARY:York Bassmasters - Monthly Club Meeting
DESCRIPTION:
URL:https://yorkbassmasters.com/event/york-bassmasters-monthly-club-meeting-2/
CATEGORIES:Monthly Club Meeting
END:VEVENT
BEGIN:VEVENT
DTSTART;VALUE=DATE:20220221
DTEND;VALUE=DATE:20220222
DTSTAMP:20260420T120341
CREATED:20220202T025452Z
LAST-MODIFIED:20220202T025452Z
UID:3625-1645401600-1645487999@yorkbassmasters.com
SUMMARY:Family Day
DESCRIPTION:
URL:https://yorkbassmasters.com/event/family-day/
CATEGORIES:Statutory Holiday
END:VEVENT
BEGIN:VEVENT
DTSTART;TZID=America/Toronto:20220220T190000
DTEND;TZID=America/Toronto:20220220T200000
DTSTAMP:20260420T120341
CREATED:20220202T025327Z
LAST-MODIFIED:20220202T025327Z
UID:3623-1645383600-1645387200@yorkbassmasters.com
SUMMARY:Ontario B.A.S.S. Nation Board of Director's/President's meeting.
DESCRIPTION:
URL:https://yorkbassmasters.com/event/ontario-b-a-s-s-nation-board-of-directors-presidents-meeting/
CATEGORIES:Monthly Club Meeting
END:VEVENT
BEGIN:VEVENT
DTSTART;VALUE=DATE:20220214
DTEND;VALUE=DATE:20220215
DTSTAMP:20260420T120341
CREATED:20220202T025059Z
LAST-MODIFIED:20220202T025059Z
UID:3621-1644796800-1644883199@yorkbassmasters.com
SUMMARY:Valentine's Day
DESCRIPTION:
URL:https://yorkbassmasters.com/event/valentines-day/
CATEGORIES:Statutory Holiday
END:VEVENT
BEGIN:VEVENT
DTSTART;TZID=America/Toronto:20220131T190000
DTEND;TZID=America/Toronto:20220131T220000
DTSTAMP:20260420T120341
CREATED:20220202T024907Z
LAST-MODIFIED:20220202T033139Z
UID:3619-1643655600-1643666400@yorkbassmasters.com
SUMMARY:York Bassmasters - Monthly Club Meeting
DESCRIPTION:
URL:https://yorkbassmasters.com/event/york-bassmasters-monthly-club-meeting/
CATEGORIES:Monthly Club Meeting
END:VEVENT
BEGIN:VEVENT
DTSTART;VALUE=DATE:20220101
DTEND;VALUE=DATE:20220102
DTSTAMP:20260420T120341
CREATED:20220202T024529Z
LAST-MODIFIED:20220202T024940Z
UID:3617-1640995200-1641081599@yorkbassmasters.com
SUMMARY:New Years Day
DESCRIPTION:
URL:https://yorkbassmasters.com/event/new-years-day/
CATEGORIES:Statutory Holiday
END:VEVENT
END:VCALENDAR