BEGIN:VCALENDAR
VERSION:2.0
PRODID:-//York Bassmasters - ECPv6.15.14//NONSGML v1.0//EN
CALSCALE:GREGORIAN
METHOD:PUBLISH
X-ORIGINAL-URL:https://yorkbassmasters.com
X-WR-CALDESC:Events for York Bassmasters
REFRESH-INTERVAL;VALUE=DURATION:PT1H
X-Robots-Tag:noindex
X-PUBLISHED-TTL:PT1H
BEGIN:VTIMEZONE
TZID:America/Toronto
BEGIN:DAYLIGHT
TZOFFSETFROM:-0500
TZOFFSETTO:-0400
TZNAME:EDT
DTSTART:20210314T070000
END:DAYLIGHT
BEGIN:STANDARD
TZOFFSETFROM:-0400
TZOFFSETTO:-0500
TZNAME:EST
DTSTART:20211107T060000
END:STANDARD
BEGIN:DAYLIGHT
TZOFFSETFROM:-0500
TZOFFSETTO:-0400
TZNAME:EDT
DTSTART:20220313T070000
END:DAYLIGHT
BEGIN:STANDARD
TZOFFSETFROM:-0400
TZOFFSETTO:-0500
TZNAME:EST
DTSTART:20221106T060000
END:STANDARD
BEGIN:DAYLIGHT
TZOFFSETFROM:-0500
TZOFFSETTO:-0400
TZNAME:EDT
DTSTART:20230312T070000
END:DAYLIGHT
BEGIN:STANDARD
TZOFFSETFROM:-0400
TZOFFSETTO:-0500
TZNAME:EST
DTSTART:20231105T060000
END:STANDARD
BEGIN:DAYLIGHT
TZOFFSETFROM:-0500
TZOFFSETTO:-0400
TZNAME:EDT
DTSTART:20240310T070000
END:DAYLIGHT
BEGIN:STANDARD
TZOFFSETFROM:-0400
TZOFFSETTO:-0500
TZNAME:EST
DTSTART:20241103T060000
END:STANDARD
BEGIN:DAYLIGHT
TZOFFSETFROM:-0500
TZOFFSETTO:-0400
TZNAME:EDT
DTSTART:20250309T070000
END:DAYLIGHT
BEGIN:STANDARD
TZOFFSETFROM:-0400
TZOFFSETTO:-0500
TZNAME:EST
DTSTART:20251102T060000
END:STANDARD
BEGIN:DAYLIGHT
TZOFFSETFROM:-0500
TZOFFSETTO:-0400
TZNAME:EDT
DTSTART:20260308T070000
END:DAYLIGHT
BEGIN:STANDARD
TZOFFSETFROM:-0400
TZOFFSETTO:-0500
TZNAME:EST
DTSTART:20261101T060000
END:STANDARD
END:VTIMEZONE
BEGIN:VEVENT
DTSTART;TZID=America/Toronto:20250628T070000
DTEND;TZID=America/Toronto:20250628T150000
DTSTAMP:20260422T074537
CREATED:20250122T001642Z
LAST-MODIFIED:20250630T195613Z
UID:4806-1751094000-1751122800@yorkbassmasters.com
SUMMARY:Hyper Tour Bass Tournament - Lake Couchiching/Simcoe
DESCRIPTION:
URL:https://yorkbassmasters.com/event/hyper-tour-bass-tournament-lake-couchiching-simcoe/
LOCATION:Lake Couchiching\, 44.614917\,-79.4146552
CATEGORIES:Club Tournament
END:VEVENT
BEGIN:VEVENT
DTSTART;TZID=America/Toronto:20241005T073000
DTEND;TZID=America/Toronto:20241005T153000
DTSTAMP:20260422T074537
CREATED:20240324T031204Z
LAST-MODIFIED:20241001T200158Z
UID:4635-1728113400-1728142200@yorkbassmasters.com
SUMMARY:York Bassmasters Bass Tournament - Lake Couch (Washago)
DESCRIPTION:
URL:https://yorkbassmasters.com/event/york-bassmasters-bass-tournament-lake-simcoe-kempenfelt-bay/
LOCATION:Lake Couchiching\, 44.614917\,-79.4146552
CATEGORIES:Club Tournament
END:VEVENT
BEGIN:VEVENT
DTSTART;TZID=America/Toronto:20240921T070000
DTEND;TZID=America/Toronto:20240921T150000
DTSTAMP:20260422T074537
CREATED:20240324T031024Z
LAST-MODIFIED:20240514T221853Z
UID:4633-1726902000-1726930800@yorkbassmasters.com
SUMMARY:Hyper Tour Bass Tournament Series - Lake Couchiching
DESCRIPTION:
URL:https://yorkbassmasters.com/event/hyper-tour-bass-tournament-series-lake-couchiching/
LOCATION:Lake Couchiching\, 44.614917\,-79.4146552
CATEGORIES:Club Tournament
END:VEVENT
BEGIN:VEVENT
DTSTART;TZID=America/Toronto:20240915T070000
DTEND;TZID=America/Toronto:20240915T150000
DTSTAMP:20260422T074537
CREATED:20240410T180759Z
LAST-MODIFIED:20240514T221914Z
UID:4665-1726383600-1726412400@yorkbassmasters.com
SUMMARY:York Bassmasters Bass Tournament - Lake St. Clair (Day 2)
DESCRIPTION:
URL:https://yorkbassmasters.com/event/york-bassmasters-bass-tournament-lake-st-clair-day-2/
LOCATION:Lake St. Clair\, 3 Allen Rd\, Dover Centre\, ON\, N0P 1L0\, Canada
CATEGORIES:Club Tournament
END:VEVENT
BEGIN:VEVENT
DTSTART;TZID=America/Toronto:20240914T070000
DTEND;TZID=America/Toronto:20240914T150000
DTSTAMP:20260422T074537
CREATED:20240324T030907Z
LAST-MODIFIED:20240514T222013Z
UID:4631-1726297200-1726326000@yorkbassmasters.com
SUMMARY:York Bassmasters Bass Tournament - Lake St. Clair (Day 1)
DESCRIPTION:
URL:https://yorkbassmasters.com/event/york-bassmasters-bass-tournament-lake-st-clair/
LOCATION:Lake St. Clair\, 3 Allen Rd\, Dover Centre\, ON\, N0P 1L0\, Canada
CATEGORIES:Club Tournament
END:VEVENT
BEGIN:VEVENT
DTSTART;TZID=America/Toronto:20240823T000000
DTEND;TZID=America/Toronto:20240825T235959
DTSTAMP:20260422T074537
CREATED:20240324T025244Z
LAST-MODIFIED:20240324T025245Z
UID:4613-1724371200-1724630399@yorkbassmasters.com
SUMMARY:Ontario B.A.S.S. Nation Hank Gibson Provincial Qualifier - Lake Temiskaming
DESCRIPTION:
URL:https://yorkbassmasters.com/event/ontario-b-a-s-s-nation-hank-gibson-provincial-qualifier-lake-temiskaming/
LOCATION:Ontario
CATEGORIES:Club Tournament
END:VEVENT
BEGIN:VEVENT
DTSTART;TZID=America/Toronto:20240814T070000
DTEND;TZID=America/Toronto:20240814T150000
DTSTAMP:20260422T074537
CREATED:20240324T030550Z
LAST-MODIFIED:20240514T221941Z
UID:4628-1723618800-1723647600@yorkbassmasters.com
SUMMARY:York Bassmasters Bass Tournament - Six Mile Lake
DESCRIPTION:
URL:https://yorkbassmasters.com/event/york-bassmasters-bass-tournament-six-mile-lake/
LOCATION:Six Mile Lake\, 104 Vollicks Rd\, Port Severn\, ON\, L0K 1S0\, Canada
CATEGORIES:Club Tournament
END:VEVENT
BEGIN:VEVENT
DTSTART;TZID=America/Toronto:20240810T070000
DTEND;TZID=America/Toronto:20240810T150000
DTSTAMP:20260422T074537
CREATED:20240324T030342Z
LAST-MODIFIED:20240514T221959Z
UID:4626-1723273200-1723302000@yorkbassmasters.com
SUMMARY:Hyper Tour Bass Tournament Series - Gloucester Pool
DESCRIPTION:
URL:https://yorkbassmasters.com/event/hyper-tour-bass-tournament-series-gloucester-pool/
LOCATION:Gloucester Pool\, Port Severn\, Ontario\, Canada
CATEGORIES:Club Tournament
END:VEVENT
BEGIN:VEVENT
DTSTART;TZID=America/Toronto:20240809T000000
DTEND;TZID=America/Toronto:20240809T235959
DTSTAMP:20260422T074537
CREATED:20240324T024930Z
LAST-MODIFIED:20240324T025009Z
UID:4611-1723161600-1723247999@yorkbassmasters.com
SUMMARY:Ontario B.A.S.S. Nation Hank Gibson Provincial Qualifier – Registration Deadline
DESCRIPTION:
URL:https://yorkbassmasters.com/event/ontario-b-a-s-s-nation-hank-gibson-provincial-qualifier-registration-deadline/
LOCATION:Ontario
CATEGORIES:Club Tournament
END:VEVENT
BEGIN:VEVENT
DTSTART;TZID=America/Toronto:20240728T070000
DTEND;TZID=America/Toronto:20240728T150000
DTSTAMP:20260422T074537
CREATED:20240410T180925Z
LAST-MODIFIED:20240514T221433Z
UID:4667-1722150000-1722178800@yorkbassmasters.com
SUMMARY:York Bassmasters Bass Tournament - St. Lawrence River (Day 2)
DESCRIPTION:
URL:https://yorkbassmasters.com/event/york-bassmasters-bass-tournament-st-lawrence-river-day-2-2/
LOCATION:St. Lawerence River\, Howe Island\, Ontario\, Canada
CATEGORIES:Club Tournament
END:VEVENT
BEGIN:VEVENT
DTSTART;TZID=America/Toronto:20240727T070000
DTEND;TZID=America/Toronto:20240727T150000
DTSTAMP:20260422T074537
CREATED:20240324T030210Z
LAST-MODIFIED:20240514T221458Z
UID:4623-1722063600-1722092400@yorkbassmasters.com
SUMMARY:York Bassmasters Bass Tournament - St. Lawrence River (Day 1)
DESCRIPTION:
URL:https://yorkbassmasters.com/event/york-bassmasters-bass-tournament-st-lawrence-river-2/
LOCATION:St. Lawerence River\, Howe Island\, Ontario\, Canada
CATEGORIES:Club Tournament
END:VEVENT
BEGIN:VEVENT
DTSTART;TZID=America/Toronto:20240713T070000
DTEND;TZID=America/Toronto:20240713T150000
DTSTAMP:20260422T074537
CREATED:20240324T025947Z
LAST-MODIFIED:20240514T221517Z
UID:4621-1720854000-1720882800@yorkbassmasters.com
SUMMARY:Hyper Tour Bass Tournament Series - Bay of Quinte
DESCRIPTION:
URL:https://yorkbassmasters.com/event/hyper-tour-bass-tournament-series-bay-of-quinte/
LOCATION:Bay Of Quinte\, Herchimer Boat Launch\, Belleville\, ON\, K8N 5R1\, Canada
CATEGORIES:Club Tournament
END:VEVENT
BEGIN:VEVENT
DTSTART;TZID=America/Toronto:20240626T070000
DTEND;TZID=America/Toronto:20240626T150000
DTSTAMP:20260422T074537
CREATED:20240324T025830Z
LAST-MODIFIED:20240514T221542Z
UID:4619-1719385200-1719414000@yorkbassmasters.com
SUMMARY:York Bassmasters Bass Tournament - Lake Scugog
DESCRIPTION:
URL:https://yorkbassmasters.com/event/york-bassmasters-bass-tournament-lake-scugog-2/
LOCATION:Lake Scugog\, Port Perry\, Ontario\, Canada
CATEGORIES:Club Tournament
END:VEVENT
BEGIN:VEVENT
DTSTART;TZID=America/Toronto:20240622T070000
DTEND;TZID=America/Toronto:20240622T150000
DTSTAMP:20260422T074537
CREATED:20240324T025659Z
LAST-MODIFIED:20240514T221558Z
UID:4617-1719039600-1719068400@yorkbassmasters.com
SUMMARY:Hyper Tour Bass Tournament Series - Balsam Lake
DESCRIPTION:
URL:https://yorkbassmasters.com/event/hyper-tour-bass-tournament-series-balsam-lake/
LOCATION:Balsam Lake Provincial Park\, 2238 Kawartha Lakes County Rd 48\, Kirkfield\, Ontario\, K0M 2B0\, Canada
CATEGORIES:Club Tournament
END:VEVENT
BEGIN:VEVENT
DTSTART;TZID=America/Toronto:20240601T070000
DTEND;TZID=America/Toronto:20240601T160000
DTSTAMP:20260422T074537
CREATED:20240324T025516Z
LAST-MODIFIED:20240507T145149Z
UID:4615-1717225200-1717257600@yorkbassmasters.com
SUMMARY:York Bassmasters - Lake Muskoka (Gravenhurst) Pike Tournament
DESCRIPTION:
URL:https://yorkbassmasters.com/event/york-bassmasters-lake-couchiching-or-muskoka-tentative-pike-tournament/
LOCATION:Lake Muskoka\, 165 Steamship Bay Rd\, Gravenhurst\, Ontario\, P1P 1Z9\, Canada
CATEGORIES:Club Tournament
END:VEVENT
BEGIN:VEVENT
DTSTART;TZID=America/Toronto:20240430T000000
DTEND;TZID=America/Toronto:20240430T235959
DTSTAMP:20260422T074537
CREATED:20240324T024642Z
LAST-MODIFIED:20240324T024643Z
UID:4609-1714435200-1714521599@yorkbassmasters.com
SUMMARY:Ontario B.A.S.S. Nation - Hank Gibson Provincial Qualifier Early Bird Entry Deadline
DESCRIPTION:
URL:https://yorkbassmasters.com/event/ontario-b-a-s-s-nation-hank-gibson-provincial-qualifier-early-bird-entry-deadline/
LOCATION:Ontario
CATEGORIES:Club Tournament
END:VEVENT
BEGIN:VEVENT
DTSTART;TZID=America/Toronto:20240322T000000
DTEND;TZID=America/Toronto:20240324T235959
DTSTAMP:20260422T074537
CREATED:20240322T020420Z
LAST-MODIFIED:20240322T020421Z
UID:4561-1711065600-1711324799@yorkbassmasters.com
SUMMARY:B.A.S.S. Bassmaster Clasic
DESCRIPTION:
URL:https://yorkbassmasters.com/event/b-a-s-s-bassmaster-clasic/
LOCATION:Ontario
CATEGORIES:Club Tournament,Trade Show
END:VEVENT
BEGIN:VEVENT
DTSTART;TZID=America/Toronto:20230910T073000
DTEND;TZID=America/Toronto:20230910T153000
DTSTAMP:20260422T074537
CREATED:20230130T004819Z
LAST-MODIFIED:20230907T204057Z
UID:4231-1694331000-1694359800@yorkbassmasters.com
SUMMARY:York Bassmasters - Bass Tournament (Lake of Bays)
DESCRIPTION:
URL:https://yorkbassmasters.com/event/york-bassmasters-bass-tournament-lake-of-bays/
LOCATION:Lake of Bays\, Ontario\, Canada
CATEGORIES:Club Tournament
END:VEVENT
BEGIN:VEVENT
DTSTART;TZID=America/Toronto:20230909T073000
DTEND;TZID=America/Toronto:20230909T153000
DTSTAMP:20260422T074537
CREATED:20230130T004351Z
LAST-MODIFIED:20230907T204105Z
UID:4229-1694244600-1694273400@yorkbassmasters.com
SUMMARY:Hyper Tour Series - Bass Tournament (Lake Muskoka)
DESCRIPTION:
URL:https://yorkbassmasters.com/event/hyper-tour-series-bass-tournament-lake-muskoka/
LOCATION:Lake Muskoka\, 165 Steamship Bay Rd\, Gravenhurst\, Ontario\, P1P 1Z9\, Canada
CATEGORIES:Club Tournament
END:VEVENT
BEGIN:VEVENT
DTSTART;TZID=America/Toronto:20230820T070000
DTEND;TZID=America/Toronto:20230820T150000
DTSTAMP:20260422T074537
CREATED:20230130T003903Z
LAST-MODIFIED:20230601T021549Z
UID:4227-1692514800-1692543600@yorkbassmasters.com
SUMMARY:York Bassmasters - Bass Tournament (Tri lakes)
DESCRIPTION:
URL:https://yorkbassmasters.com/event/york-bassmasters-bass-tournament-tri-lakes/
LOCATION:Tri-Lakes (Caygeon Cove Resort)\, 12 Fire Route 122\, Bobcaygeon\, Ontario\, K0M 1A0\, Canada
CATEGORIES:Club Tournament
END:VEVENT
BEGIN:VEVENT
DTSTART;TZID=America/Toronto:20230819T070000
DTEND;TZID=America/Toronto:20230819T150000
DTSTAMP:20260422T074537
CREATED:20230130T003710Z
LAST-MODIFIED:20230720T012608Z
UID:4225-1692428400-1692457200@yorkbassmasters.com
SUMMARY:Hyper Tour Series - Bass Tournament (Sturgeon Lake)
DESCRIPTION:
URL:https://yorkbassmasters.com/event/hyper-tour-series-bass-tournament-sturgeon-lake/
LOCATION:Sturgeon Lake\, Bobcaygeon\, Ontario\, Canada
CATEGORIES:Club Tournament
END:VEVENT
BEGIN:VEVENT
DTSTART;VALUE=DATE:20230804
DTEND;VALUE=DATE:20230807
DTSTAMP:20260422T074537
CREATED:20221228T231252Z
LAST-MODIFIED:20230131T180439Z
UID:4125-1691107200-1691366399@yorkbassmasters.com
SUMMARY:Ontario B.A.S.S. Nation - Hank Gibson Provincial Qualifier
DESCRIPTION:
URL:https://yorkbassmasters.com/event/ontario-b-a-s-s-nation-hank-gibson-provincial-qualifier-2/
LOCATION:Rice Lake\, 5369 Harris Boatworks Rd\, Gores Landing\, Ontario\, K0K 2E0\, Canada
CATEGORIES:Club Tournament
END:VEVENT
BEGIN:VEVENT
DTSTART;TZID=America/Toronto:20230719T070000
DTEND;TZID=America/Toronto:20230719T150000
DTSTAMP:20260422T074537
CREATED:20230130T003110Z
LAST-MODIFIED:20230601T021410Z
UID:4219-1689750000-1689778800@yorkbassmasters.com
SUMMARY:York Bassmasters - Bass Tournament (Georgian Bay)
DESCRIPTION:
URL:https://yorkbassmasters.com/event/york-bassmasters-bass-tournament-georgian-bay-2/
LOCATION:Georgian Bay\, Honey Harbour\, Ontario\, Canada
CATEGORIES:Club Tournament
END:VEVENT
BEGIN:VEVENT
DTSTART;TZID=America/Toronto:20230708T070000
DTEND;TZID=America/Toronto:20230708T150000
DTSTAMP:20260422T074537
CREATED:20230130T002926Z
LAST-MODIFIED:20230601T021439Z
UID:4217-1688799600-1688828400@yorkbassmasters.com
SUMMARY:York Bassmasters - Bass Tournament (St. Lawrence River - Day 1)
DESCRIPTION:
URL:https://yorkbassmasters.com/event/york-bassmasters-bass-tournament-st-lawrence-river/
LOCATION:St. Lawerence River\, Howe Island\, Ontario\, Canada
CATEGORIES:Club Tournament
END:VEVENT
BEGIN:VEVENT
DTSTART;TZID=America/Toronto:20230624T070000
DTEND;TZID=America/Toronto:20230625T150000
DTSTAMP:20260422T074537
CREATED:20230130T002730Z
LAST-MODIFIED:20230601T021452Z
UID:4215-1687590000-1687705200@yorkbassmasters.com
SUMMARY:Hyper Tour Championship - Bass Tournament (Bay of Quinte)
DESCRIPTION:
URL:https://yorkbassmasters.com/event/hyper-tour-championship-bass-tournament-bay-of-quinte/
LOCATION:Bay Of Quinte\, Herchimer Boat Launch\, Belleville\, ON\, K8N 5R1\, Canada
CATEGORIES:Club Tournament
END:VEVENT
BEGIN:VEVENT
DTSTART;TZID=America/Toronto:20230617T070000
DTEND;TZID=America/Toronto:20230617T150000
DTSTAMP:20260422T074537
CREATED:20230130T002436Z
LAST-MODIFIED:20230601T021503Z
UID:4213-1686985200-1687014000@yorkbassmasters.com
SUMMARY:York Bassmasters - Bass Tournament (Lake Scugog)
DESCRIPTION:
URL:https://yorkbassmasters.com/event/york-bassmasters-bass-tournament-lake-scugog/
LOCATION:Lake Scugog\, Port Perry\, Ontario\, Canada
CATEGORIES:Club Tournament
END:VEVENT
BEGIN:VEVENT
DTSTART;TZID=America/Toronto:20230527T070000
DTEND;TZID=America/Toronto:20230527T150000
DTSTAMP:20260422T074537
CREATED:20230510T124509Z
LAST-MODIFIED:20230525T132556Z
UID:4481-1685170800-1685199600@yorkbassmasters.com
SUMMARY:York Bassmasters - Pike Tournament (Lake Muskoka)
DESCRIPTION:
URL:https://yorkbassmasters.com/event/york-bassmasters-pike-tournament-lake-muskoka/
LOCATION:Lake Muskoka\, 165 Steamship Bay Rd\, Gravenhurst\, Ontario\, P1P 1Z9\, Canada
CATEGORIES:Club Tournament
END:VEVENT
BEGIN:VEVENT
DTSTART;TZID=America/Toronto:20221029T080000
DTEND;TZID=America/Toronto:20221030T160000
DTSTAMP:20260422T074537
CREATED:20220202T151819Z
LAST-MODIFIED:20220606T142606Z
UID:3701-1667030400-1667145600@yorkbassmasters.com
SUMMARY:York Bassmasters - Fun Fish Weekend (Lake Erie or Lake St. Clair)
DESCRIPTION:
URL:https://yorkbassmasters.com/event/york-bassmasters-fun-fish-weekend-lake-erie-or-lake-st-clair/
LOCATION:Ontario
CATEGORIES:Club Event,Club Tournament
ORGANIZER;CN="York Bassmasters":MAILTO:admin@yorkbassmasters.com
END:VEVENT
BEGIN:VEVENT
DTSTART;TZID=America/Toronto:20221001T070000
DTEND;TZID=America/Toronto:20221002T150000
DTSTAMP:20260422T074537
CREATED:20220202T151610Z
LAST-MODIFIED:20220606T142621Z
UID:3699-1664607600-1664722800@yorkbassmasters.com
SUMMARY:York Bassmasters - St. Lawrence River Weekend (Hideout on Howe\, Howe Island)
DESCRIPTION:
URL:https://yorkbassmasters.com/event/york-bassmasters-st-lawrence-river-weekend-hideout-on-howe-howe-island/
LOCATION:Hideout On Howe\, 356 Driscoll Rd\, Gananoque\, Ontario\, K7G 2V6\, Canada
CATEGORIES:Club Event,Club Tournament
ORGANIZER;CN="York Bassmasters":MAILTO:admin@yorkbassmasters.com
END:VEVENT
BEGIN:VEVENT
DTSTART;TZID=America/Toronto:20220917T070000
DTEND;TZID=America/Toronto:20220917T150000
DTSTAMP:20260422T074537
CREATED:20220202T151318Z
LAST-MODIFIED:20220606T132354Z
UID:3697-1663398000-1663426800@yorkbassmasters.com
SUMMARY:Hyper Tour - Bass Tournament (Lake Couchiching)
DESCRIPTION:
URL:https://yorkbassmasters.com/event/hyper-tour-bass-tournament-lake-couchiching/
LOCATION:Lake Couchiching\, 44.614917\,-79.4146552
CATEGORIES:Club Tournament
ORGANIZER;CN="York Bassmasters":MAILTO:admin@yorkbassmasters.com
END:VEVENT
END:VCALENDAR