BEGIN:VCALENDAR
VERSION:2.0
PRODID:-//York Bassmasters - ECPv6.15.14//NONSGML v1.0//EN
CALSCALE:GREGORIAN
METHOD:PUBLISH
X-ORIGINAL-URL:https://yorkbassmasters.com
X-WR-CALDESC:Events for York Bassmasters
REFRESH-INTERVAL;VALUE=DURATION:PT1H
X-Robots-Tag:noindex
X-PUBLISHED-TTL:PT1H
BEGIN:VTIMEZONE
TZID:America/Toronto
BEGIN:DAYLIGHT
TZOFFSETFROM:-0500
TZOFFSETTO:-0400
TZNAME:EDT
DTSTART:20250309T070000
END:DAYLIGHT
BEGIN:STANDARD
TZOFFSETFROM:-0400
TZOFFSETTO:-0500
TZNAME:EST
DTSTART:20251102T060000
END:STANDARD
BEGIN:DAYLIGHT
TZOFFSETFROM:-0500
TZOFFSETTO:-0400
TZNAME:EDT
DTSTART:20260308T070000
END:DAYLIGHT
BEGIN:STANDARD
TZOFFSETFROM:-0400
TZOFFSETTO:-0500
TZNAME:EST
DTSTART:20261101T060000
END:STANDARD
BEGIN:DAYLIGHT
TZOFFSETFROM:-0500
TZOFFSETTO:-0400
TZNAME:EDT
DTSTART:20270314T070000
END:DAYLIGHT
BEGIN:STANDARD
TZOFFSETFROM:-0400
TZOFFSETTO:-0500
TZNAME:EST
DTSTART:20271107T060000
END:STANDARD
END:VTIMEZONE
BEGIN:VEVENT
DTSTART;TZID=America/Toronto:20260606T000000
DTEND;TZID=America/Toronto:20260606T235959
DTSTAMP:20260422T051121
CREATED:20260216T033053Z
LAST-MODIFIED:20260304T142414Z
UID:4958-1780704000-1780790399@yorkbassmasters.com
SUMMARY:York Bassmasters - Lake Nippissing Pike Tournament
DESCRIPTION:
URL:https://yorkbassmasters.com/event/york-bassmasters-lake-nippissing/
CATEGORIES:Club Tournament
END:VEVENT
BEGIN:VEVENT
DTSTART;TZID=America/Toronto:20260624T000000
DTEND;TZID=America/Toronto:20260624T235959
DTSTAMP:20260422T051121
CREATED:20260216T034239Z
LAST-MODIFIED:20260304T142727Z
UID:4962-1782259200-1782345599@yorkbassmasters.com
SUMMARY:York Bassmasters - Canal Lake Tournament
DESCRIPTION:
URL:https://yorkbassmasters.com/event/york-bassmasters-canal-lake-tournament/
CATEGORIES:Club Tournament
END:VEVENT
BEGIN:VEVENT
DTSTART;TZID=America/Toronto:20260627T000000
DTEND;TZID=America/Toronto:20260627T235959
DTSTAMP:20260422T051121
CREATED:20260216T043527Z
LAST-MODIFIED:20260216T043528Z
UID:4995-1782518400-1782604799@yorkbassmasters.com
SUMMARY:Hyper Tour - Lake Scugog Bass Tournament
DESCRIPTION:
URL:https://yorkbassmasters.com/event/hyper-tour-lake-scugog-bass-tournament/
CATEGORIES:Club Tournament
END:VEVENT
BEGIN:VEVENT
DTSTART;TZID=America/Toronto:20260711T000000
DTEND;TZID=America/Toronto:20260711T235959
DTSTAMP:20260422T051121
CREATED:20260216T034620Z
LAST-MODIFIED:20260216T035004Z
UID:4964-1783728000-1783814399@yorkbassmasters.com
SUMMARY:York Bassmasters - Rice Lake Bass Tournament
DESCRIPTION:
URL:https://yorkbassmasters.com/event/york-bassmasters-rice-lake/
CATEGORIES:Club Tournament
END:VEVENT
BEGIN:VEVENT
DTSTART;TZID=America/Toronto:20260725T000000
DTEND;TZID=America/Toronto:20260725T235959
DTSTAMP:20260422T051121
CREATED:20260216T034846Z
LAST-MODIFIED:20260216T034846Z
UID:4966-1784937600-1785023999@yorkbassmasters.com
SUMMARY:Hyper Tour - Tri Lakes Bass Tournment
DESCRIPTION:
URL:https://yorkbassmasters.com/event/hyper-tour-tri-lakes-bass-tournment/
CATEGORIES:Club Tournament
END:VEVENT
BEGIN:VEVENT
DTSTART;TZID=America/Toronto:20260815T000000
DTEND;TZID=America/Toronto:20260815T235959
DTSTAMP:20260422T051121
CREATED:20260216T035547Z
LAST-MODIFIED:20260216T035629Z
UID:4973-1786752000-1786838399@yorkbassmasters.com
SUMMARY:York Bassmasters - Morrison Lake Bass Tournament
DESCRIPTION:
URL:https://yorkbassmasters.com/event/york-bassmasters-morrison-lake-bass-tournament/
CATEGORIES:Club Tournament
END:VEVENT
BEGIN:VEVENT
DTSTART;TZID=America/Toronto:20260819T000000
DTEND;TZID=America/Toronto:20260819T235959
DTSTAMP:20260422T051121
CREATED:20260216T035818Z
LAST-MODIFIED:20260216T035854Z
UID:4975-1787097600-1787183999@yorkbassmasters.com
SUMMARY:Hyper Tour - Bay of Quinte Bass Tournament
DESCRIPTION:
URL:https://yorkbassmasters.com/event/hyper-tour-bay-of-quinte/
CATEGORIES:Club Tournament
END:VEVENT
BEGIN:VEVENT
DTSTART;TZID=America/Toronto:20260919T000000
DTEND;TZID=America/Toronto:20260920T235959
DTSTAMP:20260422T051121
CREATED:20260216T040528Z
LAST-MODIFIED:20260216T043851Z
UID:4980-1789776000-1789948799@yorkbassmasters.com
SUMMARY:Hyper Tournament - Big Rideau Lake Bass Tournament
DESCRIPTION:
URL:https://yorkbassmasters.com/event/hyper-tournament-big-rideau-lake-bass-tournament/
CATEGORIES:Club Tournament
END:VEVENT
BEGIN:VEVENT
DTSTART;TZID=America/Toronto:20261003T000000
DTEND;TZID=America/Toronto:20261003T235959
DTSTAMP:20260422T051121
CREATED:20260216T041030Z
LAST-MODIFIED:20260216T041031Z
UID:4984-1790985600-1791071999@yorkbassmasters.com
SUMMARY:York Bassmasters - Lake Erie Bass Tournament
DESCRIPTION:
URL:https://yorkbassmasters.com/event/york-bassmasters-lake-erie-bass-tournament/
CATEGORIES:Club Tournament
END:VEVENT
END:VCALENDAR