BEGIN:VCALENDAR
VERSION:2.0
PRODID:-//York Bassmasters - ECPv6.15.14//NONSGML v1.0//EN
CALSCALE:GREGORIAN
METHOD:PUBLISH
X-ORIGINAL-URL:https://yorkbassmasters.com
X-WR-CALDESC:Events for York Bassmasters
REFRESH-INTERVAL;VALUE=DURATION:PT1H
X-Robots-Tag:noindex
X-PUBLISHED-TTL:PT1H
BEGIN:VTIMEZONE
TZID:America/Toronto
BEGIN:DAYLIGHT
TZOFFSETFROM:-0500
TZOFFSETTO:-0400
TZNAME:EDT
DTSTART:20250309T070000
END:DAYLIGHT
BEGIN:STANDARD
TZOFFSETFROM:-0400
TZOFFSETTO:-0500
TZNAME:EST
DTSTART:20251102T060000
END:STANDARD
BEGIN:DAYLIGHT
TZOFFSETFROM:-0500
TZOFFSETTO:-0400
TZNAME:EDT
DTSTART:20260308T070000
END:DAYLIGHT
BEGIN:STANDARD
TZOFFSETFROM:-0400
TZOFFSETTO:-0500
TZNAME:EST
DTSTART:20261101T060000
END:STANDARD
BEGIN:DAYLIGHT
TZOFFSETFROM:-0500
TZOFFSETTO:-0400
TZNAME:EDT
DTSTART:20270314T070000
END:DAYLIGHT
BEGIN:STANDARD
TZOFFSETFROM:-0400
TZOFFSETTO:-0500
TZNAME:EST
DTSTART:20271107T060000
END:STANDARD
END:VTIMEZONE
BEGIN:VEVENT
DTSTART;TZID=America/Toronto:20260919T000000
DTEND;TZID=America/Toronto:20260920T235959
DTSTAMP:20260422T074701
CREATED:20260216T040528Z
LAST-MODIFIED:20260216T043851Z
UID:4980-1789776000-1789948799@yorkbassmasters.com
SUMMARY:Hyper Tournament - Big Rideau Lake Bass Tournament
DESCRIPTION:
URL:https://yorkbassmasters.com/event/hyper-tournament-big-rideau-lake-bass-tournament/
CATEGORIES:Club Tournament
END:VEVENT
END:VCALENDAR